BEGIN:VCALENDAR
VERSION:2.0
PRODID:-//ATL NAACP - ECPv6.15.20//NONSGML v1.0//EN
CALSCALE:GREGORIAN
METHOD:PUBLISH
X-ORIGINAL-URL:https://atlnaacp.org
X-WR-CALDESC:Events for ATL NAACP
REFRESH-INTERVAL;VALUE=DURATION:PT1H
X-Robots-Tag:noindex
X-PUBLISHED-TTL:PT1H
BEGIN:VTIMEZONE
TZID:UTC
BEGIN:STANDARD
TZOFFSETFROM:+0000
TZOFFSETTO:+0000
TZNAME:UTC
DTSTART:20250101T000000
END:STANDARD
END:VTIMEZONE
BEGIN:VEVENT
DTSTART;TZID=UTC:20260207T070000
DTEND;TZID=UTC:20260207T233000
DTSTAMP:20260421T110223
CREATED:20260131T194241Z
LAST-MODIFIED:20260317T134615Z
UID:17780-1770447600-1770507000@atlnaacp.org
SUMMARY:ATL NAACP Branch 2026 Team Building Day
DESCRIPTION:
URL:https://atlnaacp.org/event/atl-naacp-branch-2026-team-building-day/
LOCATION:The Reserves at Hamilton Homes\, 4598 Glore Rd\, Mableton\, GA\, 30126\, United States
CATEGORIES:Executive Leadership,Leadership Training
ATTACH;FMTTYPE=image/png:https://atlnaacp.org/wp-content/uploads/2026/01/IMG_20260131_141625.png
ORGANIZER;CN="President David Means":MAILTO:presidentmeans@atlnaacp.org
END:VEVENT
END:VCALENDAR